BEGIN:VCALENDAR
VERSION:2.0
PRODID:SchoolNow
CALSCALE:GREGORIAN
BEGIN:VEVENT
UID:b370887a-98c1-11f0-9a20-0a58a9feac02
DTSTAMP:20260421T090012Z
SUMMARY:Christmas
URL;VALUE=URI:https://www.wenatcheeschools.org/wa/calendar/8657014/christma
 s
DTSTART;VALUE=DATE:20261225
DTEND;VALUE=DATE:20261226
END:VEVENT
END:VCALENDAR
