BEGIN:VCALENDAR
VERSION:2.0
PRODID:SchoolNow
CALSCALE:GREGORIAN
BEGIN:VEVENT
UID:b3708956-98c1-11f0-b547-0a58a9feac02
DTSTAMP:20260421T025509Z
SUMMARY:Valentines Day
URL;VALUE=URI:https://www.wenatcheeschools.org/wa/calendar/8657015/valentin
 es-day
DTSTART;VALUE=DATE:20260214
DTEND;VALUE=DATE:20260215
END:VEVENT
END:VCALENDAR
