BEGIN:VCALENDAR
VERSION:2.0
PRODID:SchoolNow
CALSCALE:GREGORIAN
BEGIN:VEVENT
UID:b3708a32-98c1-11f0-803f-0a58a9feac02
DTSTAMP:20260421T150512Z
SUMMARY:Valentines Day
URL;VALUE=URI:https://www.wenatcheeschools.org/wa/calendar/8657016/valentin
 es-day
DTSTART;VALUE=DATE:20270214
DTEND;VALUE=DATE:20270215
END:VEVENT
END:VCALENDAR
