BEGIN:VCALENDAR
VERSION:2.0
PRODID:SchoolNow
CALSCALE:GREGORIAN
BEGIN:VEVENT
UID:b3708b0e-98c1-11f0-beff-0a58a9feac02
DTSTAMP:20260421T025509Z
SUMMARY:St. Patricks Day
URL;VALUE=URI:https://www.wenatcheeschools.org/wa/calendar/8657017/st-patri
 cks-day
DTSTART;VALUE=DATE:20260317
DTEND;VALUE=DATE:20260318
END:VEVENT
END:VCALENDAR
