BEGIN:VCALENDAR
VERSION:2.0
PRODID:SchoolNow
CALSCALE:GREGORIAN
BEGIN:VEVENT
UID:b3708bea-98c1-11f0-b7c8-0a58a9feac02
DTSTAMP:20260421T150512Z
SUMMARY:St. Patricks Day
URL;VALUE=URI:https://www.wenatcheeschools.org/wa/calendar/8657018/st-patri
 cks-day
DTSTART;VALUE=DATE:20270317
DTEND;VALUE=DATE:20270318
END:VEVENT
END:VCALENDAR
