BEGIN:VCALENDAR
VERSION:2.0
PRODID:SchoolNow
CALSCALE:GREGORIAN
BEGIN:VEVENT
UID:b3708cc6-98c1-11f0-878f-0a58a9feac02
DTSTAMP:20260421T025509Z
SUMMARY:April Fools Day
URL;VALUE=URI:https://www.wenatcheeschools.org/wa/calendar/8657019/april-fo
 ols-day
DTSTART;VALUE=DATE:20260401
DTEND;VALUE=DATE:20260402
END:VEVENT
END:VCALENDAR
