BEGIN:VCALENDAR
VERSION:2.0
PRODID:SchoolNow
CALSCALE:GREGORIAN
BEGIN:VEVENT
UID:b3708d98-98c1-11f0-81b2-0a58a9feac02
DTSTAMP:20260421T150512Z
SUMMARY:April Fools Day
URL;VALUE=URI:https://www.wenatcheeschools.org/wa/calendar/8657020/april-fo
 ols-day
DTSTART;VALUE=DATE:20270401
DTEND;VALUE=DATE:20270402
END:VEVENT
END:VCALENDAR
