BEGIN:VCALENDAR
VERSION:2.0
PRODID:SchoolNow
CALSCALE:GREGORIAN
BEGIN:VEVENT
UID:b3708e74-98c1-11f0-af66-0a58a9feac02
DTSTAMP:20260421T025509Z
SUMMARY:Cinco de Mayo
URL;VALUE=URI:https://www.wenatcheeschools.org/wa/calendar/8657021/cinco-de
 -mayo
DTSTART;VALUE=DATE:20260505
DTEND;VALUE=DATE:20260506
END:VEVENT
END:VCALENDAR
