BEGIN:VCALENDAR
VERSION:2.0
PRODID:SchoolNow
CALSCALE:GREGORIAN
BEGIN:VEVENT
UID:b3708f46-98c1-11f0-9aaf-0a58a9feac02
DTSTAMP:20260421T211009Z
SUMMARY:Cinco de Mayo
URL;VALUE=URI:https://www.wenatcheeschools.org/wa/calendar/8657022/cinco-de
 -mayo
DTSTART;VALUE=DATE:20270505
DTEND;VALUE=DATE:20270506
END:VEVENT
END:VCALENDAR
