BEGIN:VCALENDAR
VERSION:2.0
PRODID:SchoolNow
CALSCALE:GREGORIAN
BEGIN:VEVENT
UID:b3709018-98c1-11f0-ba95-0a58a9feac02
DTSTAMP:20260421T025509Z
SUMMARY:Fourth of July
URL;VALUE=URI:https://www.wenatcheeschools.org/wa/calendar/8657023/fourth-o
 f-july
DTSTART;VALUE=DATE:20260704
DTEND;VALUE=DATE:20260705
END:VEVENT
END:VCALENDAR
