BEGIN:VCALENDAR
VERSION:2.0
PRODID:SchoolNow
CALSCALE:GREGORIAN
BEGIN:VEVENT
UID:601e7a40-9f21-11f0-82bb-0a58a9feac02
DTSTAMP:20260421T025509Z
SUMMARY:4th Gr  Spring Choir
LOCATION:Music Room
URL;VALUE=URI:https://www.wenatcheeschools.org/wa/calendar/8685507/4th-gr-s
 pring-choir
DTSTART:20260205T223000Z
DTEND:20260205T231500Z
END:VEVENT
END:VCALENDAR
