BEGIN:VCALENDAR
VERSION:2.0
PRODID:SchoolNow
CALSCALE:GREGORIAN
BEGIN:VEVENT
UID:601e7cd4-9f21-11f0-916e-0a58a9feac02
DTSTAMP:20260421T025509Z
SUMMARY:4th Gr  Spring Choir
LOCATION:Music Room
URL;VALUE=URI:https://www.wenatcheeschools.org/wa/calendar/8685510/4th-gr-s
 pring-choir
DTSTART:20260226T223000Z
DTEND:20260226T231500Z
END:VEVENT
END:VCALENDAR
