BEGIN:VCALENDAR
VERSION:2.0
PRODID:SchoolNow
CALSCALE:GREGORIAN
BEGIN:VEVENT
UID:601e81f2-9f21-11f0-8672-0a58a9feac02
DTSTAMP:20260420T205010Z
SUMMARY:4th Gr  Spring Choir
LOCATION:Music Room
URL;VALUE=URI:https://www.wenatcheeschools.org/wa/calendar/8685516/4th-gr-s
 pring-choir
DTSTART:20260416T213000Z
DTEND:20260416T221500Z
END:VEVENT
END:VCALENDAR
