BEGIN:VCALENDAR
VERSION:2.0
PRODID:SchoolNow
CALSCALE:GREGORIAN
BEGIN:VEVENT
UID:60551a00-9f21-11f0-a11e-0a58a9feac02
DTSTAMP:20260421T025509Z
SUMMARY:5th Gr  Spring Choir
LOCATION:Music Room
URL;VALUE=URI:https://www.wenatcheeschools.org/wa/calendar/8685519/5th-gr-s
 pring-choir
DTSTART:20260202T223000Z
DTEND:20260202T231500Z
END:VEVENT
END:VCALENDAR
