BEGIN:VCALENDAR
VERSION:2.0
PRODID:SchoolNow
CALSCALE:GREGORIAN
BEGIN:VEVENT
UID:60551c4e-9f21-11f0-a42f-0a58a9feac02
DTSTAMP:20260421T025509Z
SUMMARY:5th Gr  Spring Choir
LOCATION:Music Room
URL;VALUE=URI:https://www.wenatcheeschools.org/wa/calendar/8685521/5th-gr-s
 pring-choir
DTSTART:20260223T223000Z
DTEND:20260223T231500Z
END:VEVENT
END:VCALENDAR
