BEGIN:VCALENDAR
VERSION:2.0
PRODID:SchoolNow
CALSCALE:GREGORIAN
BEGIN:VEVENT
UID:60551f32-9f21-11f0-8234-0a58a9feac02
DTSTAMP:20260421T025509Z
SUMMARY:5th Gr  Spring Choir
LOCATION:Music Room
URL;VALUE=URI:https://www.wenatcheeschools.org/wa/calendar/8685524/5th-gr-s
 pring-choir
DTSTART:20260316T213000Z
DTEND:20260316T221500Z
END:VEVENT
END:VCALENDAR
