BEGIN:VCALENDAR
VERSION:2.0
PRODID:SchoolNow
CALSCALE:GREGORIAN
BEGIN:VEVENT
UID:60552018-9f21-11f0-b674-0a58a9feac02
DTSTAMP:20260421T025509Z
SUMMARY:5th Gr  Spring Choir
LOCATION:Music Room
URL;VALUE=URI:https://www.wenatcheeschools.org/wa/calendar/8685525/5th-gr-s
 pring-choir
DTSTART:20260323T213000Z
DTEND:20260323T221500Z
END:VEVENT
END:VCALENDAR
