BEGIN:VCALENDAR
VERSION:2.0
PRODID:SchoolNow
CALSCALE:GREGORIAN
BEGIN:VEVENT
UID:2449e186-a3e9-11f0-89f6-0a58a9feac02
DTSTAMP:20260421T025509Z
SUMMARY:Missoula Childrens Theatre (1st - 5th Grades ONLY)
URL;VALUE=URI:https://www.wenatcheeschools.org/wa/calendar/8704008/missoula
 -childrens-theatre-1st-5th-grades-only
DTSTART;VALUE=DATE:20260217
DTEND;VALUE=DATE:20260222
END:VEVENT
END:VCALENDAR
