BEGIN:VCALENDAR
VERSION:2.0
PRODID:SchoolNow
CALSCALE:GREGORIAN
BEGIN:VEVENT
UID:2449fffe-a3e9-11f0-a58c-0a58a9feac02
DTSTAMP:20260421T025509Z
SUMMARY:MCT Parent Meeting
LOCATION:Library
URL;VALUE=URI:https://www.wenatcheeschools.org/wa/calendar/8704009/mct-pare
 nt-meeting
DTSTART:20260212T224500Z
DTEND:20260212T231500Z
END:VEVENT
END:VCALENDAR
