BEGIN:VCALENDAR
VERSION:2.0
PRODID:SchoolNow
CALSCALE:GREGORIAN
BEGIN:VEVENT
UID:244a01ac-a3e9-11f0-9542-0a58a9feac02
DTSTAMP:20260421T025509Z
SUMMARY:5th Gr  Spring Choir
LOCATION:Music Room
URL;VALUE=URI:https://www.wenatcheeschools.org/wa/calendar/8704010/5th-gr-s
 pring-choir
DTSTART:20260126T223000Z
DTEND:20260126T231500Z
END:VEVENT
END:VCALENDAR
