BEGIN:VCALENDAR
VERSION:2.0
PRODID:SchoolNow
CALSCALE:GREGORIAN
BEGIN:VEVENT
UID:c60d689e-ab14-11f0-81f8-0a58a9feac02
DTSTAMP:20260421T025509Z
SUMMARY:PTSA Bingo
URL;VALUE=URI:https://www.wenatcheeschools.org/wa/calendar/8728606/ptsa-bin
 go
DTSTART:20260123T023000Z
DTEND:20260123T040000Z
END:VEVENT
END:VCALENDAR
