BEGIN:VCALENDAR
VERSION:2.0
PRODID:SchoolNow
CALSCALE:GREGORIAN
BEGIN:VEVENT
UID:faba4c20-adf7-11f0-adb2-0a58a9feac02
DTSTAMP:20260421T025509Z
SUMMARY:Math is Cool Gr 4
LOCATION:Room 1720
URL;VALUE=URI:https://www.wenatcheeschools.org/wa/calendar/8736196/math-is-
 cool-gr-4
DTSTART:20260217T223000Z
DTEND:20260218T000000Z
END:VEVENT
END:VCALENDAR
