BEGIN:VCALENDAR
VERSION:2.0
PRODID:SchoolNow
CALSCALE:GREGORIAN
BEGIN:VEVENT
UID:39adfa1c-b91f-11f0-a90c-02cffbc81c1b
DTSTAMP:20260421T211009Z
SUMMARY:Fourth of July
URL;VALUE=URI:https://www.wenatcheeschools.org/wa/calendar/8774294/fourth-o
 f-july
DTSTART;VALUE=DATE:20270704
DTEND;VALUE=DATE:20270705
END:VEVENT
END:VCALENDAR
