BEGIN:VCALENDAR
VERSION:2.0
PRODID:SchoolNow
CALSCALE:GREGORIAN
BEGIN:VEVENT
UID:b0796da4-c3e0-11f0-beed-0ec70281e507
DTSTAMP:20260421T025509Z
SUMMARY:Math is Cool Competition Gr 5
LOCATION:Foothills Middle School
URL;VALUE=URI:https://www.wenatcheeschools.org/wa/calendar/8799788/math-is-
 cool-competition-gr-5
DTSTART:20260221T000000Z
DTEND:20260221T043000Z
END:VEVENT
END:VCALENDAR
