BEGIN:VCALENDAR
VERSION:2.0
PRODID:SchoolNow
CALSCALE:GREGORIAN
BEGIN:VEVENT
UID:b0af1b34-c3e0-11f0-a546-0ec70281e507
DTSTAMP:20260421T025509Z
SUMMARY:Math is Cool Gr 5
LOCATION:Room 1710
URL;VALUE=URI:https://www.wenatcheeschools.org/wa/calendar/8799797/math-is-
 cool-gr-5
DTSTART:20260127T223000Z
DTEND:20260128T000000Z
END:VEVENT
END:VCALENDAR
