BEGIN:VCALENDAR
VERSION:2.0
PRODID:SchoolNow
CALSCALE:GREGORIAN
BEGIN:VEVENT
UID:b0af1c42-c3e0-11f0-9c73-0ec70281e507
DTSTAMP:20260421T025509Z
SUMMARY:Math is Cool Gr 5
LOCATION:Room 1710
URL;VALUE=URI:https://www.wenatcheeschools.org/wa/calendar/8799798/math-is-
 cool-gr-5
DTSTART:20260203T223000Z
DTEND:20260204T000000Z
END:VEVENT
END:VCALENDAR
