BEGIN:VCALENDAR
VERSION:2.0
PRODID:SchoolNow
CALSCALE:GREGORIAN
BEGIN:VEVENT
UID:96575824-c5ab-11f0-8b3f-0afff62476eb
DTSTAMP:20260421T025509Z
SUMMARY:Math Family Night
LOCATION:Cafeteria/Gym
URL;VALUE=URI:https://www.wenatcheeschools.org/wa/calendar/8804462/math-fam
 ily-night
DTSTART:20260211T023000Z
DTEND:20260211T040000Z
END:VEVENT
END:VCALENDAR
