BEGIN:VCALENDAR
VERSION:2.0
PRODID:SchoolNow
CALSCALE:GREGORIAN
BEGIN:VEVENT
UID:696d1850-c941-11f0-9341-0a58a9feac02
DTSTAMP:20260420T205010Z
SUMMARY:Apple Blossom Kids Parade
URL;VALUE=URI:https://www.wenatcheeschools.org/wa/calendar/8808897/apple-bl
 ossom-kids-parade
DTSTART;VALUE=DATE:20260425
DTEND;VALUE=DATE:20260426
END:VEVENT
END:VCALENDAR
