BEGIN:VCALENDAR
VERSION:2.0
PRODID:SchoolNow
CALSCALE:GREGORIAN
BEGIN:VEVENT
UID:8fb4cc4e-d9fc-11f0-b187-0a58a9feac02
DTSTAMP:20260421T025509Z
SUMMARY:Report Cards Sent Home
URL;VALUE=URI:https://www.wenatcheeschools.org/wa/calendar/8824029/report-c
 ards-sent-home
DTSTART;VALUE=DATE:20260205
DTEND;VALUE=DATE:20260206
END:VEVENT
END:VCALENDAR
