BEGIN:VCALENDAR
VERSION:2.0
PRODID:SchoolNow
CALSCALE:GREGORIAN
BEGIN:VEVENT
UID:5012f240-f249-11f0-ba97-0a58a9feac02
DTSTAMP:20260420T205010Z
SUMMARY:Kids Heart Challenge
URL;VALUE=URI:https://www.wenatcheeschools.org/wa/calendar/8836732/kids-hea
 rt-challenge
DTSTART;VALUE=DATE:20260417
DTEND;VALUE=DATE:20260425
END:VEVENT
END:VCALENDAR
