BEGIN:VCALENDAR
VERSION:2.0
PRODID:SchoolNow
CALSCALE:GREGORIAN
BEGIN:VEVENT
UID:50f5f7ba-f27c-11f0-9149-0a58a9feac02
DTSTAMP:20260420T205010Z
SUMMARY:1st Gr Science Field Trip
URL;VALUE=URI:https://www.wenatcheeschools.org/wa/calendar/8836839/1st-gr-s
 cience-field-trip
DTSTART:20260422T163000Z
DTEND:20260422T203500Z
END:VEVENT
END:VCALENDAR
