BEGIN:VCALENDAR
VERSION:2.0
PRODID:SchoolNow
CALSCALE:GREGORIAN
BEGIN:VEVENT
UID:448249fe-f315-11f0-a397-0205da05d983
DTSTAMP:20260421T025509Z
SUMMARY:MCT Performances 3:00pm and 5:30pm
LOCATION:Cafeteria
URL;VALUE=URI:https://www.wenatcheeschools.org/wa/calendar/8837183/mct-perf
 ormances-3-00pm-and-5-30pm
DTSTART:20260221T230000Z
DTEND:20260222T000000Z
END:VEVENT
END:VCALENDAR
