BEGIN:VCALENDAR
VERSION:2.0
PRODID:SchoolNow
CALSCALE:GREGORIAN
BEGIN:VEVENT
UID:174f17e2-f6de-11f0-98cf-0214ffc2caef
DTSTAMP:20260421T025509Z
SUMMARY:PTSA Field Day
URL;VALUE=URI:https://www.wenatcheeschools.org/wa/calendar/8838723/ptsa-fie
 ld-day
DTSTART;VALUE=DATE:20260605
DTEND;VALUE=DATE:20260606
END:VEVENT
END:VCALENDAR
