BEGIN:VCALENDAR
VERSION:2.0
PRODID:SchoolNow
CALSCALE:GREGORIAN
BEGIN:VEVENT
UID:dde2c58e-fb0c-11f0-9c98-0e8a2ad77fdd
DTSTAMP:20260421T025509Z
SUMMARY:Kinder Science Field Trip
URL;VALUE=URI:https://www.wenatcheeschools.org/wa/calendar/8844129/kinder-s
 cience-field-trip
DTSTART:20260506T163000Z
DTEND:20260506T194500Z
END:VEVENT
END:VCALENDAR
