BEGIN:VCALENDAR
VERSION:2.0
PRODID:SchoolNow
CALSCALE:GREGORIAN
BEGIN:VEVENT
UID:dde2e99c-fb0c-11f0-bc37-0e8a2ad77fdd
DTSTAMP:20260421T025509Z
SUMMARY:3rd Gr Salmon Release Field Trip
URL;VALUE=URI:https://www.wenatcheeschools.org/wa/calendar/8844130/3rd-gr-s
 almon-release-field-trip
DTSTART:20260513T174000Z
DTEND:20260513T203000Z
END:VEVENT
END:VCALENDAR
