BEGIN:VCALENDAR
VERSION:2.0
PRODID:SchoolNow
CALSCALE:GREGORIAN
BEGIN:VEVENT
UID:c29085d6-fd3d-11f0-9714-0a58a9feac02
DTSTAMP:20260421T025509Z
SUMMARY:Student Placement Parent Info Forms Due
URL;VALUE=URI:https://www.wenatcheeschools.org/wa/calendar/8846549/student-
 placement-parent-info-forms-due
DTSTART;VALUE=DATE:20260415
DTEND;VALUE=DATE:20260416
END:VEVENT
END:VCALENDAR
