BEGIN:VCALENDAR
VERSION:2.0
PRODID:SchoolNow
CALSCALE:GREGORIAN
BEGIN:VEVENT
UID:9b2449e6-006d-11f1-b443-0a58a9feac02
DTSTAMP:20260421T025509Z
SUMMARY:KINDERGARTEN VISITS
URL;VALUE=URI:https://www.wenatcheeschools.org/wa/calendar/8848004/kinderga
 rten-visits
DTSTART:20260519T214500Z
DTEND:20260519T221500Z
END:VEVENT
END:VCALENDAR
