BEGIN:VCALENDAR
VERSION:2.0
PRODID:SchoolNow
CALSCALE:GREGORIAN
BEGIN:VEVENT
UID:8ca2adf0-0139-11f1-8bf2-0a58a9feac02
DTSTAMP:20260421T025509Z
SUMMARY:PTSA Read A Thon Fundraiser
URL;VALUE=URI:https://www.wenatcheeschools.org/wa/calendar/8848758/ptsa-rea
 d-a-thon-fundraiser
DTSTART;VALUE=DATE:20260316
DTEND;VALUE=DATE:20260328
END:VEVENT
END:VCALENDAR
