BEGIN:VCALENDAR
VERSION:2.0
PRODID:SchoolNow
CALSCALE:GREGORIAN
BEGIN:VEVENT
UID:78022f58-02d1-11f1-a80d-0a58a9feac02
DTSTAMP:20260421T025509Z
SUMMARY:4th Gr Stage Kids Performance
LOCATION:WHS
URL;VALUE=URI:https://www.wenatcheeschools.org/wa/calendar/8850103/4th-gr-s
 tage-kids-performance
DTSTART:20260220T173500Z
DTEND:20260220T200000Z
END:VEVENT
END:VCALENDAR
