BEGIN:VCALENDAR
VERSION:2.0
PRODID:SchoolNow
CALSCALE:GREGORIAN
BEGIN:VEVENT
UID:3d2fe1a6-0766-11f1-8b6f-0ebc01110d2d
DTSTAMP:20260421T025509Z
SUMMARY:Daylight Savings\, Spring Ahead 1 Hour
URL;VALUE=URI:https://www.wenatcheeschools.org/wa/calendar/8853164/daylight
 -savings-spring-ahead-1-hour
DTSTART;VALUE=DATE:20260308
DTEND;VALUE=DATE:20260309
END:VEVENT
END:VCALENDAR
