BEGIN:VCALENDAR
VERSION:2.0
PRODID:SchoolNow
CALSCALE:GREGORIAN
BEGIN:VEVENT
UID:2cff6542-08fe-11f1-81f8-0affffb3f8a7
DTSTAMP:20260421T025509Z
SUMMARY:Math is Cool Competition - 4th Gr
LOCATION:FMS
URL;VALUE=URI:https://www.wenatcheeschools.org/wa/calendar/8855056/math-is-
 cool-competition-4th-gr
DTSTART:20260313T233000Z
DTEND:20260314T023000Z
END:VEVENT
END:VCALENDAR
