BEGIN:VCALENDAR
VERSION:2.0
PRODID:SchoolNow
CALSCALE:GREGORIAN
BEGIN:VEVENT
UID:fbcd608a-0c60-11f1-b12c-0a58a9feac02
DTSTAMP:20260421T025509Z
SUMMARY:4th Gr Science Field Trip
LOCATION:Rocky Reach Dam
URL;VALUE=URI:https://www.wenatcheeschools.org/wa/calendar/8858225/4th-gr-s
 cience-field-trip
DTSTART:20260520T160000Z
DTEND:20260520T203500Z
END:VEVENT
END:VCALENDAR
