BEGIN:VCALENDAR
VERSION:2.0
PRODID:SchoolNow
CALSCALE:GREGORIAN
BEGIN:VEVENT
UID:fbcd660c-0c60-11f1-9d7b-0a58a9feac02
DTSTAMP:20260421T025509Z
SUMMARY:5th Gr Saddlerock Field Trip
LOCATION:Saddle Rock
URL;VALUE=URI:https://www.wenatcheeschools.org/wa/calendar/8858226/5th-gr-s
 addlerock-field-trip
DTSTART:20260331T161500Z
DTEND:20260331T203000Z
END:VEVENT
END:VCALENDAR
