BEGIN:VCALENDAR
VERSION:2.0
PRODID:SchoolNow
CALSCALE:GREGORIAN
BEGIN:VEVENT
UID:c10f886c-10f5-11f1-86be-0affe2a3270b
DTSTAMP:20260421T025509Z
SUMMARY:Beauty of Bronze - 5th Gr
URL;VALUE=URI:https://www.wenatcheeschools.org/wa/calendar/8867244/beauty-o
 f-bronze-5th-gr
DTSTART:20260325T154500Z
DTEND:20260325T174500Z
END:VEVENT
END:VCALENDAR
