BEGIN:VCALENDAR
VERSION:2.0
PRODID:SchoolNow
CALSCALE:GREGORIAN
BEGIN:VEVENT
UID:c10faf7c-10f5-11f1-99cc-0affe2a3270b
DTSTAMP:20260421T025509Z
SUMMARY:Class Picture Day
LOCATION:Stage
URL;VALUE=URI:https://www.wenatcheeschools.org/wa/calendar/8867245/class-pi
 cture-day
DTSTART;VALUE=DATE:20260303
DTEND;VALUE=DATE:20260304
END:VEVENT
END:VCALENDAR
