BEGIN:VCALENDAR
VERSION:2.0
PRODID:SchoolNow
CALSCALE:GREGORIAN
BEGIN:VEVENT
UID:b71e03b6-11c1-11f1-bdc5-0e08cf99caa7
DTSTAMP:20260421T025509Z
SUMMARY:Washington Elementary Red Robin Fundraiser
URL;VALUE=URI:https://www.wenatcheeschools.org/wa/calendar/8869268/washingt
 on-elementary-red-robin-fundraiser
DTSTART;VALUE=DATE:20260331
DTEND;VALUE=DATE:20260401
END:VEVENT
END:VCALENDAR
