BEGIN:VCALENDAR
VERSION:2.0
PRODID:SchoolNow
CALSCALE:GREGORIAN
BEGIN:VEVENT
UID:5bf3abda-18ba-11f1-a5d8-0229ba735dad
DTSTAMP:20260421T025509Z
SUMMARY:Panda Express Fundraiser
URL;VALUE=URI:https://www.wenatcheeschools.org/wa/calendar/8893264/panda-ex
 press-fundraiser
DTSTART;VALUE=DATE:20260331
DTEND;VALUE=DATE:20260401
END:VEVENT
END:VCALENDAR
