BEGIN:VCALENDAR
VERSION:2.0
PRODID:SchoolNow
CALSCALE:GREGORIAN
BEGIN:VEVENT
UID:284bfce2-1cb6-11f1-8608-0affdc12d0eb
DTSTAMP:20260421T025509Z
SUMMARY:Super Style Hair Dress Up Day
URL;VALUE=URI:https://www.wenatcheeschools.org/wa/calendar/8907437/super-st
 yle-hair-dress-up-day
DTSTART;VALUE=DATE:20260325
DTEND;VALUE=DATE:20260326
END:VEVENT
END:VCALENDAR
