BEGIN:VCALENDAR
VERSION:2.0
PRODID:SchoolNow
CALSCALE:GREGORIAN
BEGIN:VEVENT
UID:284c016a-1cb6-11f1-a273-0affdc12d0eb
DTSTAMP:20260421T025509Z
SUMMARY:Super TALL Sock Dress Up Day
URL;VALUE=URI:https://www.wenatcheeschools.org/wa/calendar/8907438/super-ta
 ll-sock-dress-up-day
DTSTART;VALUE=DATE:20260318
DTEND;VALUE=DATE:20260319
END:VEVENT
END:VCALENDAR
