BEGIN:VCALENDAR
VERSION:2.0
PRODID:SchoolNow
CALSCALE:GREGORIAN
BEGIN:VEVENT
UID:1e2e289e-1d82-11f1-b12d-0e53a1d3dd31
DTSTAMP:20260421T025509Z
SUMMARY:Patrol Field Trip
LOCATION:Lake Chelan Water Slides
URL;VALUE=URI:https://www.wenatcheeschools.org/wa/calendar/8910316/patrol-f
 ield-trip
DTSTART:20260602T160000Z
DTEND:20260602T210000Z
END:VEVENT
END:VCALENDAR
